BEGIN:VCALENDAR
VERSION:2.0
PRODID:-//ChamberMaster//Event Calendar 2.0//EN
METHOD:PUBLISH
X-PUBLISHED-TTL:P3D
REFRESH-INTERVAL:P3D
CALSCALE:GREGORIAN
BEGIN:VEVENT
DTSTART;VALUE=DATE:20111113
DTEND;VALUE=DATE:20111114
TRANSP:TRANSPARENT
X-MICROSOFT-CDO-ALLDAYEVENT:TRUE
SUMMARY:Native American Heritage Month Program
DESCRIPTION:Homestead program to commemorate "Native American Heritage Month"\n\n\n\nMatthew "Sitting Bear" Jones will present "The Otoe-Missouria Tribe: The Forgotten Nebraskans"\n\nHomestead National Monument of America's Education Center\n\n\n\nSunday\, November 13\n\n2 pm\n\n\n\nwww.nps.gov/home
X-ALT-DESC;FMTTYPE=text/html:Homestead program to commemorate &quot\;Native American Heritage Month&quot\;<br />\n<br />\nMatthew &quot\;Sitting Bear&quot\; Jones will present &quot\;The Otoe-Missouria Tribe: The Forgotten Nebraskans&quot\;<br />\nHomestead National Monument of America&#39\;s Education Center<br />\n<br />\nSunday\, November 13<br />\n2 pm<br />\n<br />\nwww.nps.gov/home<br />\n
LOCATION:
UID:e.41.5218
SEQUENCE:3
DTSTAMP:20260424T095948Z
URL:https://business.beatricechamber.com/events/details/native-american-heritage-month-program-11-13-2011-5218
END:VEVENT

END:VCALENDAR
