BEGIN:VCALENDAR
VERSION:2.0
PRODID:-//ChamberMaster//Event Calendar 2.0//EN
METHOD:PUBLISH
X-PUBLISHED-TTL:P3D
REFRESH-INTERVAL:P3D
CALSCALE:GREGORIAN
BEGIN:VEVENT
DTSTART;VALUE=DATE:20101107
DTEND;VALUE=DATE:20101108
TRANSP:TRANSPARENT
X-MICROSOFT-CDO-ALLDAYEVENT:TRUE
SUMMARY:Native American History Month celebration
DESCRIPTION:Native American History Month celebration:\n\n\n\n2 p.m.\, Homestead Education Center. Program by Sioux tribe member Cal Pekas from the Indian Center\, Inc. in Lincoln on American Indian's use of nature in healing and daily life.\n\n\n\n402-223-3514
X-ALT-DESC;FMTTYPE=text/html:<strong><span style="font-size: 14px">Native American History Month celebration:</span></strong><br />\n<br />\n2 p.m.\, Homestead Education Center. Program by Sioux tribe member Cal Pekas from the Indian Center\, Inc. in Lincoln on American Indian&#39\;s use of nature in healing and daily life.<br />\n<br />\n402-223-3514
LOCATION:
UID:e.41.2790
SEQUENCE:3
DTSTAMP:20260425T032638Z
URL:https://business.beatricechamber.com/events/details/native-american-history-month-celebration-11-07-2010-2790
END:VEVENT

END:VCALENDAR
