BEGIN:VCALENDAR
VERSION:2.0
PRODID:-//ChamberMaster//Event Calendar 2.0//EN
METHOD:PUBLISH
X-PUBLISHED-TTL:P3D
REFRESH-INTERVAL:P3D
CALSCALE:GREGORIAN
BEGIN:VEVENT
DTSTART;VALUE=DATE:20111001
DTEND;VALUE=DATE:20111002
TRANSP:TRANSPARENT
X-MICROSOFT-CDO-ALLDAYEVENT:TRUE
SUMMARY:Native Plant Seed Collection
DESCRIPTION:Homestead National Monument of America invites the public to lend a hand in the collection of native plant seeds. \n\n\n\nArrive at the Education Center at 9:30 am on Saturday\, October 1.\n\n\n\nSeeds collected from the prairie will be used for future tallgrass prairie restoration and management projects at the Monument. \n\n\n\nParticipants are encouraged to wear long pants and closed toe shoes.  All ages are welcome. \n\n\n\nHomestead National Monument of America is located four miles west of Beatrice.  Current hours of operation are 8:30 am - 5 pm M-F and 9 am - 5 pm on weekends.  Admission is free of charge.  For additional information\, please call 402-223-3514 or visit www.nps.gov/home.
X-ALT-DESC;FMTTYPE=text/html:Homestead National Monument of America invites the public to lend a hand in the collection of native plant seeds.&nbsp\;<br />\n<br />\nArrive at the Education Center at 9:30 am on Saturday\, October 1.<br />\n<br />\nSeeds collected from the prairie will be used for future tallgrass prairie restoration and management projects at the Monument.&nbsp\;<br />\n<br />\nParticipants are encouraged to wear long pants and closed toe shoes.&nbsp\; All ages are welcome.&nbsp\;<br />\n<br />\nHomestead National Monument of America is located four miles west of Beatrice.&nbsp\; Current hours of operation are 8:30 am - 5 pm M-F and 9 am - 5 pm on weekends.&nbsp\; Admission is free of charge.&nbsp\; For additional information\, please call 402-223-3514 or visit <a href="http://www.nps.gov/home">www.nps.gov/home</a>.
LOCATION:
UID:e.41.5128
SEQUENCE:3
DTSTAMP:20260424T110442Z
URL:https://business.beatricechamber.com/events/details/native-plant-seed-collection-10-01-2011-5128
END:VEVENT

END:VCALENDAR
