BEGIN:VCALENDAR
VERSION:2.0
PRODID:-//ChamberMaster//Event Calendar 2.0//EN
METHOD:PUBLISH
X-PUBLISHED-TTL:P3D
REFRESH-INTERVAL:P3D
CALSCALE:GREGORIAN
BEGIN:VEVENT
DTSTART:20120128T190000Z
DTEND:20120128T210000Z
X-MICROSOFT-CDO-ALLDAYEVENT:FALSE
SUMMARY:Natural Health Fair
DESCRIPTION:Join us for educational and interactive activities to make this 2012 a healthy New Year!  Our goal is to connect people with natural health care professionals who can help guide them to healthier alternatives and life styles.  At this event you will be able to visit the displays of each and every exhibitors\, and talk with them first hand\, obtaining valuable information and resources.  There will also be an afternoon of inspiring and educational speakers.  The first 50 people will receive a goody bag!  Each exhibitor will be donating a prize with a value of at least $50 which will be given away throughout the day.
X-ALT-DESC;FMTTYPE=text/html:Join us for educational and interactive activities to make this 2012 a healthy New Year!&nbsp\; Our goal is to connect people with natural health care professionals who can help guide them to healthier alternatives and life styles.&nbsp\; At this event you will be able to visit the displays of each and every exhibitors\, and talk with them first hand\, obtaining valuable information and resources.&nbsp\; There will also be an afternoon of inspiring and educational speakers.&nbsp\; The first 50 people will receive a goody bag!&nbsp\; Each exhibitor will be donating a prize with a value of at least $50 which will be given away throughout the day.
LOCATION:Beatrice YMCA
UID:e.41.5274
SEQUENCE:3
DTSTAMP:20260422T202608Z
URL:https://business.beatricechamber.com/events/details/natural-health-fair-01-28-2012-5274
END:VEVENT

END:VCALENDAR
