BEGIN:VCALENDAR
VERSION:2.0
PRODID:-//ChamberMaster//Event Calendar 2.0//EN
METHOD:PUBLISH
X-PUBLISHED-TTL:P3D
REFRESH-INTERVAL:P3D
CALSCALE:GREGORIAN
BEGIN:VEVENT
DTSTART;VALUE=DATE:20110614
DTEND;VALUE=DATE:20110615
TRANSP:TRANSPARENT
X-MICROSOFT-CDO-ALLDAYEVENT:TRUE
SUMMARY:Naturalization ceremony
DESCRIPTION:Homestead National Monument of America is honored to host a United States Citizenship and Naturalization Ceremony on Flag Day\, June 14.\n\n\n\nThe ceremony will take place at 2 p.m. in the Education Center Courtyard and the public is encouraged to attend. Citizens from around the world will be represented.
X-ALT-DESC;FMTTYPE=text/html:Homestead National Monument of America is honored to host a United States Citizenship and Naturalization Ceremony on Flag Day\, June 14.<br />\n<br />\nThe ceremony will take place at 2 p.m. in the Education Center Courtyard and the public is encouraged to attend. Citizens from&nbsp\;around the world will be represented. 
LOCATION:
UID:e.41.4840
SEQUENCE:3
DTSTAMP:20260424T165313Z
URL:https://business.beatricechamber.com/events/details/naturalization-ceremony-06-14-2011-4840
END:VEVENT

END:VCALENDAR
