BEGIN:VCALENDAR
VERSION:2.0
PRODID:-//ChamberMaster//Event Calendar 2.0//EN
METHOD:PUBLISH
X-PUBLISHED-TTL:P3D
REFRESH-INTERVAL:P3D
CALSCALE:GREGORIAN
BEGIN:VEVENT
DTSTART;VALUE=DATE:20110916
DTEND;VALUE=DATE:20110917
TRANSP:TRANSPARENT
X-MICROSOFT-CDO-ALLDAYEVENT:TRUE
SUMMARY:Naturalization Ceremony at Homestead National Monument of America
DESCRIPTION:United States Citizenship and Naturalization Ceremony\n\nat Homestead National Monument of America\n\nEducation Center's Courtyard\n\n\n\nThe public is encouraged to attend and witness as around 60 new citizens are sworn in as citizens of the United States of America!\n\n\n\nFriday\, September 16\n\n2 pm
X-ALT-DESC;FMTTYPE=text/html:United States Citizenship and Naturalization Ceremony<br />\nat Homestead National Monument of America<br />\nEducation Center&#39\;s Courtyard<br />\n<br />\nThe public is encouraged to attend and witness as around 60 new citizens are sworn in as citizens of the United States of America!<br />\n<br />\nFriday\, September 16<br />\n2 pm
LOCATION:
UID:e.41.5096
SEQUENCE:3
DTSTAMP:20260424T123409Z
URL:https://business.beatricechamber.com/events/details/naturalization-ceremony-at-homestead-national-monument-of-america-09-16-2011-5096
END:VEVENT

END:VCALENDAR
