BEGIN:VCALENDAR
VERSION:2.0
PRODID:-//ChamberMaster//Event Calendar 2.0//EN
METHOD:PUBLISH
X-PUBLISHED-TTL:P3D
REFRESH-INTERVAL:P3D
CALSCALE:GREGORIAN
BEGIN:VEVENT
DTSTART:20110325T150000Z
DTEND:20110325T150000Z
X-MICROSOFT-CDO-ALLDAYEVENT:FALSE
SUMMARY:NEAPCO Ribbon Cutting
DESCRIPTION:NEAPCO Celebration of Expansion
X-ALT-DESC;FMTTYPE=text/html:NEAPCO Celebration of Expansion 
LOCATION:501 W. Sargent St.
UID:e.41.4209
SEQUENCE:3
DTSTAMP:20260424T211653Z
URL:https://business.beatricechamber.com/events/details/neapco-ribbon-cutting-03-25-2011-4209
END:VEVENT

END:VCALENDAR
