BEGIN:VCALENDAR
VERSION:2.0
PRODID:-//ChamberMaster//Event Calendar 2.0//EN
METHOD:PUBLISH
X-PUBLISHED-TTL:P3D
REFRESH-INTERVAL:P3D
CALSCALE:GREGORIAN
BEGIN:VEVENT
DTSTART;VALUE=DATE:20100606
DTEND;VALUE=DATE:20100607
TRANSP:TRANSPARENT
X-MICROSOFT-CDO-ALLDAYEVENT:TRUE
SUMMARY:Nebraska Brass & Friends Concert
DESCRIPTION:"Nebraska Brass & Friends" Concert Sunday\, June 63 p.m. St. John Lutheran Church\, Beatrice Fifth & Final Concert series of the season\, featuring percussionist Jami Fristo.  (Other concert locations in this series include Wahoo\, Omaha\, and Lincoln) Tickets:Adults: $12Seniors: $10Free to students. Tickets are available at each concert or in advance by contacting the Nebraska Brass business office\, 402-477-7899 or nb@artsincorporated.org.
X-ALT-DESC;FMTTYPE=text/html:<div><span style="font-size: small">&quot\;Nebraska Brass &amp\;&nbsp\;Friends&quot\; Concert</span></div><div>&nbsp\;</div><div><span style="font-size: small">Sunday\, June 6</span></div><div><span style="font-size: small">3 p.m.</span></div><div>&nbsp\;</div><div><span style="font-size: small">St. John Lutheran Church\, Beatrice</span></div><div>&nbsp\;</div><div><span style="font-size: small">Fifth &amp\;&nbsp\;Final Concert series of the season\, featuring percussionist Jami Fristo.&nbsp\; (Other concert locations in this series include Wahoo\, Omaha\, and Lincoln)</span></div><div>&nbsp\;</div><div><span style="font-size: small"><u>Tickets</u>:</span></div><div><span style="font-size: small">Adults: $12</span></div><div><span style="font-size: small">Seniors: $10</span></div><div><span style="font-size: small">Free to students.</span></div><div>&nbsp\;</div><div><span style="font-size: small">Tickets are available at each concert or in advance by contacting the Nebraska Brass business office\, 402-477-7899 or </span><a href="mailto:nb@artsincorporated.org"><span style="font-size: small">nb@artsincorporated.org</span></a><span style="font-size: small">.</span></div>
LOCATION:
UID:e.41.2000
SEQUENCE:3
DTSTAMP:20260425T105505Z
URL:https://business.beatricechamber.com/events/details/nebraska-brass-friends-concert-06-06-2010-2000
END:VEVENT

END:VCALENDAR
