BEGIN:VCALENDAR
VERSION:2.0
PRODID:-//ChamberMaster//Event Calendar 2.0//EN
METHOD:PUBLISH
X-PUBLISHED-TTL:P3D
REFRESH-INTERVAL:P3D
CALSCALE:GREGORIAN
BEGIN:VEVENT
DTSTART;VALUE=DATE:20110902
DTEND;VALUE=DATE:20110903
TRANSP:TRANSPARENT
X-MICROSOFT-CDO-ALLDAYEVENT:TRUE
SUMMARY:Nebraska Championship Races
DESCRIPTION:19th Annual\n\nNebraska Championship Races followed by FIREWORKS!\n\n@ Beatrice Speedway\n\n\n\nFriday\, September 2nd\n\n(Rainout date: September 3)\n\n\n\nGates: 4:00 pm\n\nHot Laps: 6:45 pm\n\nRacing: 7:30 pm\n\n\n\nAdmission:\n\nAdults: $12\n\nKids: $5\n\n6 & Under: Free\n\nPit Pass: $25\n\n\n\nClasses:  IMCA Modified\, IMA Sport Mod\, IMCA Hobby Stock\, IMCA Sport Compact\n\n\n\n\n\n414 Sargent Street * Beatrice\, NE  * 402-228-1596
X-ALT-DESC;FMTTYPE=text/html:19th Annual<br />\nNebraska Championship Races followed by FIREWORKS!<br />\n@ Beatrice Speedway<br />\n<br />\nFriday\, September 2nd<br />\n(Rainout date: September 3)<br />\n<br />\nGates: 4:00 pm<br />\nHot Laps: 6:45 pm<br />\nRacing: 7:30 pm<br />\n<br />\nAdmission:<br />\nAdults: $12<br />\nKids: $5<br />\n6 &amp\; Under: Free<br />\nPit Pass: $25<br />\n<br />\nClasses:&nbsp\; IMCA Modified\, IMA Sport Mod\, IMCA Hobby Stock\, IMCA Sport Compact<br />\n<br />\n<br />\n414 Sargent Street * Beatrice\, NE&nbsp\; * 402-228-1596<br />\n
LOCATION:
UID:e.41.5075
SEQUENCE:3
DTSTAMP:20260424T123001Z
URL:https://business.beatricechamber.com/events/details/nebraska-championship-races-09-02-2011-5075
END:VEVENT

END:VCALENDAR
