BEGIN:VCALENDAR
VERSION:2.0
PRODID:-//ChamberMaster//Event Calendar 2.0//EN
METHOD:PUBLISH
X-PUBLISHED-TTL:P3D
REFRESH-INTERVAL:P3D
CALSCALE:GREGORIAN
BEGIN:VEVENT
DTSTART:20110801T200000Z
DTEND:20110801T233000Z
X-MICROSOFT-CDO-ALLDAYEVENT:FALSE
SUMMARY:Nebraska Community Blood Bank Blood Drive
DESCRIPTION:3-6:30 p.m. at the St. John Lutheran Church\, 701 N. 6th Street.\n\n\n\nContact Tonya Minor at 402-230-0505 to schedule an appointment.  Walk-ins welcome.  For more information\, visit www.ncbb.org.
X-ALT-DESC;FMTTYPE=text/html:3-6:30 p.m. at the St. John Lutheran Church\, 701 N. 6th Street.<br />\n<br />\nContact Tonya Minor at 402-230-0505 to schedule an appointment.&nbsp\; Walk-ins welcome.&nbsp\; For more information\, visit <a href="http://www.ncbb.org">www.ncbb.org</a>.
LOCATION:
UID:e.41.5016
SEQUENCE:3
DTSTAMP:20260424T140857Z
URL:https://business.beatricechamber.com/events/details/nebraska-community-blood-bank-blood-drive-08-01-2011-5016
END:VEVENT

END:VCALENDAR
