BEGIN:VCALENDAR
VERSION:2.0
PRODID:-//ChamberMaster//Event Calendar 2.0//EN
METHOD:PUBLISH
X-PUBLISHED-TTL:P3D
REFRESH-INTERVAL:P3D
CALSCALE:GREGORIAN
BEGIN:VEVENT
DTSTART;VALUE=DATE:20110608
DTEND;VALUE=DATE:20110609
TRANSP:TRANSPARENT
X-MICROSOFT-CDO-ALLDAYEVENT:TRUE
SUMMARY:Nebraska Department of Labor Orientation Session
DESCRIPTION:9 a.m. Workforce Development\, Beatrice office\, Southeast Community College Campus\, Adams Hall\, Room 412.  If you have been looking for work and need to upgrade your skills\, attend this orientation session that will introduce you to the Workforce Investment Act program designed to invest training funds in individuals needing additional skills or education to further their career.  Call 402-223-6060 for more information.
X-ALT-DESC;FMTTYPE=text/html:<p>\n	9 a.m. Workforce Development\, Beatrice office\, Southeast Community College Campus\, Adams Hall\, Room 412.&nbsp\; If you have been looking for work and need to upgrade your skills\, attend this orientation session that will introduce you to the Workforce Investment Act program designed to invest training funds in individuals needing additional skills or education to further their career.&nbsp\; Call 402-223-6060 for more information.</p>\n
LOCATION:
UID:e.41.4861
SEQUENCE:3
DTSTAMP:20260424T165856Z
URL:https://business.beatricechamber.com/events/details/nebraska-department-of-labor-orientation-session-06-08-2011-4861
END:VEVENT

END:VCALENDAR
