BEGIN:VCALENDAR
VERSION:2.0
PRODID:-//ChamberMaster//Event Calendar 2.0//EN
METHOD:PUBLISH
X-PUBLISHED-TTL:P3D
REFRESH-INTERVAL:P3D
CALSCALE:GREGORIAN
BEGIN:VEVENT
DTSTART;VALUE=DATE:20110713
DTEND;VALUE=DATE:20110714
TRANSP:TRANSPARENT
X-MICROSOFT-CDO-ALLDAYEVENT:TRUE
SUMMARY:Nebraska Department of Labor Orientation Session
DESCRIPTION:9 a.m. Workforce Development\, Beatrice Office\, Southeast Community College Campus\, Adams Hall Rm. 412. \n\n\n\nFor more information or to schedule an orientation time\, call 402-223-6060
X-ALT-DESC;FMTTYPE=text/html:9 a.m. Workforce Development\, Beatrice Office\, Southeast Community College Campus\, Adams Hall Rm. 412.&nbsp\;<br />\n<br />\nFor more information or to schedule an orientation time\, call 402-223-6060
LOCATION:
UID:e.41.4936
SEQUENCE:3
DTSTAMP:20260424T153452Z
URL:https://business.beatricechamber.com/events/details/nebraska-department-of-labor-orientation-session-07-13-2011-4936
END:VEVENT

END:VCALENDAR
