BEGIN:VCALENDAR
VERSION:2.0
PRODID:-//ChamberMaster//Event Calendar 2.0//EN
METHOD:PUBLISH
X-PUBLISHED-TTL:P3D
REFRESH-INTERVAL:P3D
CALSCALE:GREGORIAN
BEGIN:VEVENT
DTSTART;VALUE=DATE:20111104
DTEND;VALUE=DATE:20111106
TRANSP:TRANSPARENT
X-MICROSOFT-CDO-ALLDAYEVENT:TRUE
SUMMARY:Nebraska Governor's Pheasant Hunt
DESCRIPTION:Nebraska Governor's Pheasant Hunt\n\n\n\nNovember 4 - 5\, 2011\n\n\n\nEvent Coordinator: Rick Clabaugh\n\nMain Street Beatrice\n\n205 N 4th Street\, PO Box 125\n\nBeatrice\, NE  68310\n\n\n\n(402)223-3244\n\ninfo@mainstreetbeatrice.org\n\nwww.mainstreetbeatrice.org
X-ALT-DESC;FMTTYPE=text/html:Nebraska Governor&#39\;s Pheasant Hunt<br />\n<br />\nNovember 4 - 5\, 2011<br />\n<br />\nEvent Coordinator: Rick Clabaugh<br />\nMain Street Beatrice<br />\n205 N 4th Street\, PO Box 125<br />\nBeatrice\, NE&nbsp\; 68310<br />\n<br />\n(402)223-3244<br />\ninfo@mainstreetbeatrice.org<br />\n<a href="http://www.mainstreetbeatrice.org">www.mainstreetbeatrice.org</a>
LOCATION:
UID:e.41.5133
SEQUENCE:3
DTSTAMP:20260424T100047Z
URL:https://business.beatricechamber.com/events/details/nebraska-governor-s-pheasant-hunt-11-04-2011-5133
END:VEVENT

END:VCALENDAR
