BEGIN:VCALENDAR
VERSION:2.0
PRODID:-//ChamberMaster//Event Calendar 2.0//EN
METHOD:PUBLISH
X-PUBLISHED-TTL:P3D
REFRESH-INTERVAL:P3D
CALSCALE:GREGORIAN
BEGIN:VEVENT
DTSTART;VALUE=DATE:20120525
DTEND;VALUE=DATE:20120528
TRANSP:TRANSPARENT
X-MICROSOFT-CDO-ALLDAYEVENT:TRUE
SUMMARY:Nebraska HOG (Harley Owners Group) Rally
DESCRIPTION:Estimated 250 Harley bikers in town for a weekend full of activities in Beatrice.
X-ALT-DESC;FMTTYPE=text/html:Estimated 250 Harley bikers in town for a weekend full of activities in Beatrice.
LOCATION:Gage County Fairgrounds is Rally Site.
UID:e.41.5398
SEQUENCE:3
DTSTAMP:20260422T142505Z
URL:https://business.beatricechamber.com/events/details/nebraska-hog-harley-owners-group-rally-05-25-2012-5398
END:VEVENT

END:VCALENDAR
