BEGIN:VCALENDAR
VERSION:2.0
PRODID:-//ChamberMaster//Event Calendar 2.0//EN
METHOD:PUBLISH
X-PUBLISHED-TTL:P3D
REFRESH-INTERVAL:P3D
CALSCALE:GREGORIAN
BEGIN:VEVENT
DTSTART;VALUE=DATE:20110614
DTEND;VALUE=DATE:20110615
TRANSP:TRANSPARENT
X-MICROSOFT-CDO-ALLDAYEVENT:TRUE
SUMMARY:Nebraska Homesteads: The Courage to Continue
DESCRIPTION:Starts at 7:30 p.m.\, Tuesday Night with the Library series at the Beatrice Public Library.  The Beatrice Public Library is located at 16th and Court Street.\n\n\n\nChautauqua-style account of pioneer life from 1870-1885 in the Sandhills presented by Cherrie Beam-Clark.\n\n\n\nFree admission and for more information call 402-223-3584.
X-ALT-DESC;FMTTYPE=text/html:Starts at 7:30 p.m.\, Tuesday Night with the Library series at the Beatrice Public Library.&nbsp\; The Beatrice Public Library is located at 16th and Court Street.<br />\n<br />\nChautauqua-style account of pioneer life from 1870-1885 in the Sandhills presented by Cherrie Beam-Clark.<br />\n<br />\nFree admission and for more information call 402-223-3584.
LOCATION:
UID:e.41.4878
SEQUENCE:3
DTSTAMP:20260424T165901Z
URL:https://business.beatricechamber.com/events/details/nebraska-homesteads-the-courage-to-continue-06-14-2011-4878
END:VEVENT

END:VCALENDAR
