BEGIN:VCALENDAR
VERSION:2.0
PRODID:-//ChamberMaster//Event Calendar 2.0//EN
METHOD:PUBLISH
X-PUBLISHED-TTL:P3D
REFRESH-INTERVAL:P3D
CALSCALE:GREGORIAN
BEGIN:VEVENT
DTSTART:20110911T153000Z
DTEND:20110911T183000Z
X-MICROSOFT-CDO-ALLDAYEVENT:FALSE
SUMMARY:Nebraska Lutheran Campus Ministry-SCC campus fundraiser
DESCRIPTION:Nebraska Lutheran Campus Ministry - SCC Campus Fundraiser\n\nSunday\, September 11\n\n10:30 am - 1:30 pm\n\n\n\nHome of Dennis and Janet Byars\, 823 N Eighth Street\, Beatrice\n\n\n\nArea congregations invited to support the campus ministry by committing attendance of a minimum of two people for every 100 from the church membership.  $25 per person. \n\n\n\nChecks payable to NeLCM - Beatrice Campus\n\nSend names by September 8 to Bethany Walker\, 701 N 6th Street\, Beatrice\, NE  68310 or call (402)520-5504
X-ALT-DESC;FMTTYPE=text/html:Nebraska Lutheran Campus Ministry - SCC Campus Fundraiser<br />\nSunday\, September 11<br />\n10:30 am - 1:30 pm<br />\n<br />\nHome of Dennis and Janet Byars\, 823 N Eighth Street\, Beatrice<br />\n<br />\nArea congregations invited to support the campus ministry by committing attendance of a minimum of two people for every 100 from the church membership.&nbsp\; $25 per person.&nbsp\;<br />\n<br />\nChecks payable to NeLCM - Beatrice Campus<br />\nSend names by September 8 to Bethany Walker\, 701 N 6th Street\, Beatrice\, NE&nbsp\; 68310 or call (402)520-5504<br />\n<br />\n
LOCATION:
UID:e.41.5099
SEQUENCE:3
DTSTAMP:20260424T123135Z
URL:https://business.beatricechamber.com/events/details/nebraska-lutheran-campus-ministry-scc-campus-fundraiser-09-11-2011-5099
END:VEVENT

END:VCALENDAR
