BEGIN:VCALENDAR
VERSION:2.0
PRODID:-//ChamberMaster//Event Calendar 2.0//EN
METHOD:PUBLISH
X-PUBLISHED-TTL:P3D
REFRESH-INTERVAL:P3D
CALSCALE:GREGORIAN
BEGIN:VEVENT
DTSTART:20120712T140000Z
DTEND:20120712T170000Z
X-MICROSOFT-CDO-ALLDAYEVENT:FALSE
SUMMARY:Nebraska Senior Health Insurance Information Program (SHIIP) free workshop
DESCRIPTION:Southeast Community College\, Jackson Hall\, 4771 West Scott Rd\, Beatrice\, for healthcare providers. Medicare Parts A\, B\, C\, and D\, as well as Medicare Supplements information. To register\, visit http://www.doi.ne.gov/shiip/ click on "Medicare Workshops."  800-234-7119
X-ALT-DESC;FMTTYPE=text/html:Southeast Community College\, Jackson Hall\, 4771 West Scott Rd\, Beatrice\, for healthcare providers. Medicare Parts A\, B\, C\, and D\, as well as Medicare Supplements information. To register\, visit http://www.doi.ne.gov/shiip/ click on &quot\;Medicare Workshops.&quot\;&nbsp\; 800-234-7119
LOCATION:
UID:e.41.6318
SEQUENCE:3
DTSTAMP:20260422T114007Z
URL:https://business.beatricechamber.com/events/details/nebraska-senior-health-insurance-information-program-shiip-free-workshop-07-12-2012-6318
END:VEVENT

END:VCALENDAR
