BEGIN:VCALENDAR
VERSION:2.0
PRODID:-//ChamberMaster//Event Calendar 2.0//EN
METHOD:PUBLISH
X-PUBLISHED-TTL:P3D
REFRESH-INTERVAL:P3D
CALSCALE:GREGORIAN
BEGIN:VEVENT
DTSTART:20090614T173000Z
DTEND:20090614T203000Z
X-MICROSOFT-CDO-ALLDAYEVENT:FALSE
SUMMARY:Nebraska Walleye Association Beatrice Kid?s Fishing Clinic
DESCRIPTION:Nebraska Walleye Association Beatrice Kid's Fishing Clinic @ Rockford Lake. June 14th @ 12:30Certified Aquatic Education Fishing Instructors from Nebraska Walleye Association and Nebraska Game and Parks will be there to teach everything you want to know about fishing including casting\, knot tying\, bait\, tackle\, water safety and fish identification & anatomy.   All participants get to fish the Lake after the clinic - everything provided by NWA. Parents are encouraged to attend. Sign up early\, by June 10. Free workshop\, tackle box\, Pole & Lunch is included. Limit 75 kidsContact the chamber to register at 223-2338 or email: info@beatricechamber.com. Questions call Dan Helmick at 402-239-3156 or email: helmick_dan@yahoo.comSponsored by The Decorating Center and the Beatrice Area Chamber of Commerce
X-ALT-DESC;FMTTYPE=text/html:<div style="margin: 0in 45pt 0pt 0in"><strong><span style="font-size: 9pt">Nebraska</span></strong><strong><span style="font-size: 9pt"> Walleye Association Beatrice Kid&rsquo\;s Fishing Clinic</span></strong><span style="font-size: 9pt"> @ Rockford Lake.&nbsp\;</span></div><div style="margin: 0in 45pt 0pt 0in"><span style="font-size: 9pt">June 14th @ 12:30</span></div><div style="margin: 0in 45pt 0pt 0in"><span style="font-size: 9pt">Certified Aquatic Education Fishing Instructors from Nebraska Walleye Association and&nbsp\;Nebraska Game and Parks will be there to teach everything you want to know about fishing including casting\, knot tying\, bait\, tackle\, water safety and fish identification &amp\; anatomy.&nbsp\;</span><span style="font-size: 9pt">&nbsp\;</span></div><div style="margin: 0in 45pt 0pt 0in">&nbsp\;</div><div style="margin: 0in 45pt 0pt 0in"><span style="font-size: 9pt">All participants get to fish the Lake after the clinic - everything provided by NWA.&nbsp\;</span></div><div style="margin: 0in 45pt 0pt 0in"><span style="font-size: 9pt">Parents are encouraged to attend.&nbsp\;</span></div><div style="margin: 0in 45pt 0pt 0in"><span style="font-size: 9pt">Sign up early\, by June 10.&nbsp\;</span></div><div style="margin: 0in 45pt 0pt 0in"><span style="font-size: 9pt">Free workshop\, tackle box\, Pole &amp\; Lunch is included. <strong><em>Limit 75 kids</em></strong></span></div><div style="margin: 0in 45pt 0pt 0in"><span style="font-size: 9pt">Contact the chamber to register at 223-2338 or email:&nbsp\;info@beatricechamber.com.&nbsp\;</span></div><div style="margin: 0in 45pt 0pt 0in"><span style="font-size: 9pt">Questions call Dan Helmick at 402-239-3156 or email: helmick_dan@yahoo.com</span></div><div style="margin: 0in 45pt 0pt 0in"><span style="font-size: 9pt">Sponsored by The Decorating Center and the Beatrice Area Chamber of Commerce </span></div>
LOCATION:
UID:e.41.1188
SEQUENCE:3
DTSTAMP:20260426T043027Z
URL:https://business.beatricechamber.com/events/details/nebraska-walleye-association-beatrice-kid-s-fishing-clinic-06-14-2009-1188
END:VEVENT

END:VCALENDAR
