BEGIN:VCALENDAR
VERSION:2.0
PRODID:-//ChamberMaster//Event Calendar 2.0//EN
METHOD:PUBLISH
X-PUBLISHED-TTL:P3D
REFRESH-INTERVAL:P3D
CALSCALE:GREGORIAN
BEGIN:VEVENT
DTSTART:20110105T013000Z
DTEND:20110105T030000Z
X-MICROSOFT-CDO-ALLDAYEVENT:FALSE
SUMMARY:Nebraska Wesleyan University Choir Concert
DESCRIPTION:The Emmy-Nominated Nebraska Wesleyan University Choir\n\n	Concert of Classical Choral Literature\n\n	\n\n	performs at Centenary United Methodist Church as part of its winter tour\n\n	608 Elk Street\, Beatrice\n\n	\n\n	Tuesday\, January 4\n\n	7:30 p.m.\n\n	\n\n	A freewill offering will be accepted.\n\n	\n\n	Area residents that are members of this 55-voice\, select choir include Kaylin Denison of Hickman and Stephanie Pollock of Fairbury.
X-ALT-DESC;FMTTYPE=text/html:<p>\n	The Emmy-Nominated Nebraska Wesleyan University Choir<br />\n	Concert of Classical Choral Literature<br />\n	<br />\n	performs at Centenary United Methodist Church as part of its winter tour<br />\n	608 Elk Street\, Beatrice<br />\n	<br />\n	Tuesday\, January 4<br />\n	7:30 p.m.<br />\n	<br />\n	A freewill offering will be accepted.<br />\n	<br />\n	Area residents that are members of this 55-voice\, select choir include Kaylin Denison of Hickman and Stephanie Pollock of Fairbury.<br />\n	<br />\n	&nbsp\;</p>\n
LOCATION:
UID:e.41.2935
SEQUENCE:3
DTSTAMP:20260425T003709Z
URL:https://business.beatricechamber.com/events/details/nebraska-wesleyan-university-choir-concert-01-04-2011-2935
END:VEVENT

END:VCALENDAR
