BEGIN:VCALENDAR
VERSION:2.0
PRODID:-//ChamberMaster//Event Calendar 2.0//EN
METHOD:PUBLISH
X-PUBLISHED-TTL:P3D
REFRESH-INTERVAL:P3D
CALSCALE:GREGORIAN
BEGIN:VEVENT
DTSTART;VALUE=DATE:20100211
DTEND;VALUE=DATE:20100212
TRANSP:TRANSPARENT
X-MICROSOFT-CDO-ALLDAYEVENT:TRUE
SUMMARY:NET's Inspire Nebraska Campaign kick-off dinner
DESCRIPTION:NET's Inspire Nebraska CampaignKick-off Dinner Thursday\, February 11\, 2010Cocktails at 5:30 p.m.\, dinner at 6 p.m. Homestead National MonumentBeatrice\, NE Membership and endowment support drive for NET Television and NET Radio. www.netNebraska.orgFor event reservations call Michele Peon-Casanova at 402-472-9333\, ext 375
X-ALT-DESC;FMTTYPE=text/html:<div>NET's Inspire Nebraska Campaign</div><div>Kick-off Dinner</div><div>&nbsp\;</div><div>Thursday\, February 11\, 2010</div><div>Cocktails at 5:30 p.m.\, dinner at 6 p.m.</div><div>&nbsp\;</div><div>Homestead National Monument</div><div>Beatrice\, NE</div><div>&nbsp\;</div><div>Membership and endowment support drive for NET Television and NET&nbsp\;Radio.&nbsp\;</div><div><a href="http://www.netNebraska.org">www.netNebraska.org</a></div><div>For event reservations call Michele Peon-Casanova at 402-472-9333\, ext 375</div>
LOCATION:
UID:e.41.1650
SEQUENCE:3
DTSTAMP:20260425T165451Z
URL:https://business.beatricechamber.com/events/details/net-s-inspire-nebraska-campaign-kick-off-dinner-02-11-2010-1650
END:VEVENT

END:VCALENDAR
