BEGIN:VCALENDAR
VERSION:2.0
PRODID:-//ChamberMaster//Event Calendar 2.0//EN
METHOD:PUBLISH
X-PUBLISHED-TTL:P3D
REFRESH-INTERVAL:P3D
CALSCALE:GREGORIAN
BEGIN:VEVENT
DTSTART:20101109T233000Z
DTEND:20101109T233000Z
X-MICROSOFT-CDO-ALLDAYEVENT:FALSE
SUMMARY:New Book Club
DESCRIPTION:New Book Club for the 'Sandwhich Generation'\n\n\n\n"Club Sandwhich" is a new book club\, led by Bev Joy of Beatrice and sponsored by the Kensington.\n\n\n\nThe public is invited to attend the club's first meeting at 5:30 p.m. Tuesday\, Nov. 9\, at the Kensington\, Sixth and Court streets\, beatrice. A light\, freewill donation supper will be served.
X-ALT-DESC;FMTTYPE=text/html:<strong><span style="font-size: 14px">New Book Club for the &#39\;Sandwhich Generation&#39\;</span></strong><br />\n<br />\n&quot\;Club Sandwhich&quot\; is a new book club\, led by Bev Joy of Beatrice and sponsored by the Kensington.<br />\n<br />\nThe public is invited to attend the club&#39\;s first meeting at 5:30 p.m. Tuesday\, Nov. 9\, at the Kensington\, Sixth and Court streets\, beatrice. A light\, freewill donation supper will be served.<br />\n<br />\n
LOCATION:
UID:e.41.2764
SEQUENCE:3
DTSTAMP:20260425T032738Z
URL:https://business.beatricechamber.com/events/details/new-book-club-11-09-2010-2764
END:VEVENT

END:VCALENDAR
