BEGIN:VCALENDAR
VERSION:2.0
PRODID:-//ChamberMaster//Event Calendar 2.0//EN
METHOD:PUBLISH
X-PUBLISHED-TTL:P3D
REFRESH-INTERVAL:P3D
CALSCALE:GREGORIAN
BEGIN:VEVENT
DTSTART:20120225T230000Z
DTEND:20120226T020000Z
X-MICROSOFT-CDO-ALLDAYEVENT:FALSE
SUMMARY:~New Hope Community Homeless Shelter Fairbury Soup Supper~
DESCRIPTION:The New Hope Community Homeless Shelter is hosting a Soup Supper Fundraiser in Fairbury Ne\, Jefferson County. This event will be held at the South 4H Building at the Jefferson County Fair Grounds. This is a Free Will Donation. Help us end the cycle of homelessness.
X-ALT-DESC;FMTTYPE=text/html:The New Hope Community Homeless Shelter is hosting a Soup Supper&nbsp\;Fundraiser in Fairbury Ne\, Jefferson County. This event will be held at the South 4H Building at the Jefferson County Fair Grounds. This is a Free Will Donation. Help us end the cycle of homelessness.<br />\n<br />\n
LOCATION:Fairbury Ne\, South 4H Building Jefferson County Fairgrounds.
UID:e.41.5339
SEQUENCE:3
DTSTAMP:20260422T185920Z
URL:https://business.beatricechamber.com/events/details/new-hope-community-homeless-shelter-fairbury-soup-supper-02-25-2012-5339
END:VEVENT

END:VCALENDAR
