BEGIN:VCALENDAR
VERSION:2.0
PRODID:-//ChamberMaster//Event Calendar 2.0//EN
METHOD:PUBLISH
X-PUBLISHED-TTL:P3D
REFRESH-INTERVAL:P3D
CALSCALE:GREGORIAN
BEGIN:VEVENT
DTSTART:20120203T230000Z
DTEND:20120204T020000Z
X-MICROSOFT-CDO-ALLDAYEVENT:FALSE
SUMMARY:~New Hope Community Homeless Shelter Soup Supper~
DESCRIPTION:On 2-3-2012 New Hope Community Homeless Shelter will be having a fundraiser which will be held at Holy Cross Lutheran Church from 5-8pm. The Soup Supper will be a FREE WILL DONATION. All proceeds will be used to Help New Hope open their doors to those in need in our community.
X-ALT-DESC;FMTTYPE=text/html:<span>On 2-3-2012 New Hope Community Homeless Shelter will be having a fundraiser which will be held at Holy Cross Lutheran Church from 5-8pm. The Soup Supper will be a FREE WILL DONATION. All proceeds will be used to Help New Hope open their doors to those in need in our community.</span><br />\n<br />\n<br />\n<br />\n<br />\n<table cellpadding="0" cellspacing="0" class="uiGrid mvm">\n	<tbody>\n		<tr>\n			<td class="vTop">\n				&nbsp\;</td>\n			<td class="vTop">\n				&nbsp\;</td>\n		</tr>\n	</tbody>\n</table>\n
LOCATION:Holy Cross Lutheran Church 1918 Garfield St. Beatrice Ne\,68310
UID:e.41.5285
SEQUENCE:3
DTSTAMP:20260422T185736Z
URL:https://business.beatricechamber.com/events/details/new-hope-community-homeless-shelter-soup-supper-02-03-2012-5285
END:VEVENT

END:VCALENDAR
