BEGIN:VCALENDAR
VERSION:2.0
PRODID:-//ChamberMaster//Event Calendar 2.0//EN
METHOD:PUBLISH
X-PUBLISHED-TTL:P3D
REFRESH-INTERVAL:P3D
CALSCALE:GREGORIAN
BEGIN:VEVENT
DTSTART:20120625T210000Z
DTEND:20120626T000000Z
X-MICROSOFT-CDO-ALLDAYEVENT:FALSE
SUMMARY:New Hope's Homeless Awareness Grill Out
DESCRIPTION:The Homeless Awareness Grill Out will be held on June 25th 2012. Located at Chautauqua Park under the Tabernacle in Beatrice. The Grill Out will begin at 4:00pm and end at 7:00pm. Food & Drinks will be provided along with entertainment and guest speakers. This event is a FREE WILL DONATION. All proceeds will go to help the New Hope Community Homeless Shelter open its doors.\n\n\n\nFor more information contact:\n\nMatthew Shea- Board Chairman @ 402-520-2989\n\nMelonie K. Bohlmeyer- Chairman of Fund Raising Committee 402-520-2989\n\n\n\nwww.newhopecommunityhomelessshelter.com
X-ALT-DESC;FMTTYPE=text/html:The Homeless Awareness Grill Out will be held on June 25th 2012. Located at Chautauqua Park under the Tabernacle in Beatrice. The Grill Out will begin at 4:00pm and end at 7:00pm. Food &amp\; Drinks will be provided along with entertainment and guest speakers. This event is a FREE WILL DONATION. All proceeds will go to help the New Hope Community Homeless Shelter open its doors.<br />\n<br />\nFor more information contact:<br />\nMatthew Shea- Board Chairman @ 402-520-2989<br />\nMelonie K. Bohlmeyer- Chairman of Fund Raising Committee 402-520-2989<br />\n<br />\nwww.newhopecommunityhomelessshelter.com<br />\n
LOCATION:Chautauqua Park-Tabernacle\, Beatrice Nebraska
UID:e.41.5729
SEQUENCE:3
DTSTAMP:20260422T131534Z
URL:https://business.beatricechamber.com/events/details/new-hope-s-homeless-awareness-grill-out-06-25-2012-5729
END:VEVENT

END:VCALENDAR
