BEGIN:VCALENDAR
VERSION:2.0
PRODID:-//ChamberMaster//Event Calendar 2.0//EN
METHOD:PUBLISH
X-PUBLISHED-TTL:P3D
REFRESH-INTERVAL:P3D
CALSCALE:GREGORIAN
BEGIN:VEVENT
DTSTART;VALUE=DATE:20101231
DTEND;VALUE=DATE:20110101
TRANSP:TRANSPARENT
X-MICROSOFT-CDO-ALLDAYEVENT:TRUE
SUMMARY:New Year's Eve - 2 Celebrations @ Risky's
DESCRIPTION:New Year's Eve - 2 Celebrations\n\nAccepting Reservations\n\n\n\nRisky's Sports Bar & Grill\n\n2317 N 6th Street\, Beatrice\n\n228-9500\n\nwww.riskysbar.com\n\n\n\nPool Tables\, Bowl Games\, & Great Food\n\nPrime Rib or Walleye in the Main Bar\n\n\n\n8:30 - 12:30\n\nWhizker Bizket\n\nin Back Room - No Cover\n\n\n\nFree party favors & champagne at midnight
X-ALT-DESC;FMTTYPE=text/html:New Year&#39\;s Eve - 2 Celebrations<br />\nAccepting Reservations<br />\n<br />\nRisky&#39\;s Sports Bar &amp\; Grill<br />\n2317 N 6th Street\, Beatrice<br />\n228-9500<br />\n<a href="http://www.riskysbar.com">www.riskysbar.com</a><br />\n<br />\nPool Tables\, Bowl Games\, &amp\; Great Food<br />\nPrime Rib or Walleye in the Main Bar<br />\n<br />\n8:30 - 12:30<br />\nWhizker Bizket<br />\nin Back Room - No Cover<br />\n<br />\nFree party favors &amp\; champagne at midnight<br />\n<br />\n<br />\n
LOCATION:
UID:e.41.3159
SEQUENCE:3
DTSTAMP:20260425T014456Z
URL:https://business.beatricechamber.com/events/details/new-year-s-eve-2-celebrations-risky-s-12-31-2010-3159
END:VEVENT

END:VCALENDAR
