BEGIN:VCALENDAR
VERSION:2.0
PRODID:-//ChamberMaster//Event Calendar 2.0//EN
METHOD:PUBLISH
X-PUBLISHED-TTL:P3D
REFRESH-INTERVAL:P3D
CALSCALE:GREGORIAN
BEGIN:VEVENT
DTSTART;VALUE=DATE:20101231
DTEND;VALUE=DATE:20110101
TRANSP:TRANSPARENT
X-MICROSOFT-CDO-ALLDAYEVENT:TRUE
SUMMARY:New Year's Eve Bash
DESCRIPTION:New Year's Eve Bash!\n\nat Aunt Mary's Center - Restaurant\, Bar & Event Center\n\n\n\n8th & Court\, Beatrice (formerly Beatrice Eagles Club)\n\n\n\nDecember 31st\n\nDJ & Dance 8 p.m. - 1 a.m.\n\n\n\n$5 Cover\n\n\n\nChampagne Toast at Midnight\; Free Party Favors\;\n\n\n\nGreat Food\, Great Fun\, Great Memories!\n\n\n\nOpen at 9 a.m. on New Year's Day
X-ALT-DESC;FMTTYPE=text/html:New Year&#39\;s Eve Bash!<br />\nat Aunt Mary&#39\;s Center - Restaurant\, Bar &amp\; Event Center<br />\n<br />\n8th &amp\; Court\, Beatrice (formerly Beatrice Eagles Club)<br />\n<br />\nDecember 31st<br />\nDJ &amp\; Dance 8 p.m. - 1 a.m.<br />\n<br />\n$5 Cover<br />\n<br />\nChampagne Toast at Midnight\; Free Party Favors\;<br />\n<br />\nGreat Food\, Great Fun\, Great Memories!<br />\n<br />\nOpen at 9 a.m. on New Year&#39\;s Day
LOCATION:
UID:e.41.3152
SEQUENCE:3
DTSTAMP:20260425T014049Z
URL:https://business.beatricechamber.com/events/details/new-year-s-eve-bash-12-31-2010-3152
END:VEVENT

END:VCALENDAR
