BEGIN:VCALENDAR
VERSION:2.0
PRODID:-//ChamberMaster//Event Calendar 2.0//EN
METHOD:PUBLISH
X-PUBLISHED-TTL:P3D
REFRESH-INTERVAL:P3D
CALSCALE:GREGORIAN
BEGIN:VEVENT
DTSTART;VALUE=DATE:20101231
DTEND;VALUE=DATE:20110101
TRANSP:TRANSPARENT
X-MICROSOFT-CDO-ALLDAYEVENT:TRUE
SUMMARY:New Year's Eve Bash with Escape
DESCRIPTION:New Year's Eve Bash\n\nwith Escape\n\n\n\nThe Office Bar\n\n513 Ella\, Beatrice
X-ALT-DESC;FMTTYPE=text/html:New Year&#39\;s Eve Bash<br />\nwith Escape<br />\n<br />\nThe Office Bar<br />\n513 Ella\, Beatrice 
LOCATION:
UID:e.41.3160
SEQUENCE:3
DTSTAMP:20260425T014256Z
URL:https://business.beatricechamber.com/events/details/new-year-s-eve-bash-with-escape-12-31-2010-3160
END:VEVENT

END:VCALENDAR
