BEGIN:VCALENDAR
VERSION:2.0
PRODID:-//ChamberMaster//Event Calendar 2.0//EN
METHOD:PUBLISH
X-PUBLISHED-TTL:P3D
REFRESH-INTERVAL:P3D
CALSCALE:GREGORIAN
BEGIN:VEVENT
DTSTART;VALUE=DATE:20101231
DTEND;VALUE=DATE:20110101
TRANSP:TRANSPARENT
X-MICROSOFT-CDO-ALLDAYEVENT:TRUE
SUMMARY:New Year's Evet Party with Curbstone
DESCRIPTION:New Year's Eve Party with Curbstone\n\nat The Rail\n\n212 Court Street\, Beatrice\n\n\n\nFree Ride Home!  (To RSVP\, call 402-228-9857)\n\n\n\nStop in for Robbie's free homemade egg nog while it lasts!
X-ALT-DESC;FMTTYPE=text/html:New Year&#39\;s Eve Party with Curbstone<br />\nat The Rail<br />\n212 Court Street\, Beatrice<br />\n<br />\nFree Ride Home!&nbsp\; (To RSVP\, call 402-228-9857)<br />\n<br />\nStop in for Robbie&#39\;s free homemade egg nog while it lasts!&nbsp\;<br />\n<br />\n
LOCATION:
UID:e.41.3153
SEQUENCE:3
DTSTAMP:20260425T014531Z
URL:https://business.beatricechamber.com/events/details/new-year-s-evet-party-with-curbstone-12-31-2010-3153
END:VEVENT

END:VCALENDAR
