BEGIN:VCALENDAR
VERSION:2.0
PRODID:-//ChamberMaster//Event Calendar 2.0//EN
METHOD:PUBLISH
X-PUBLISHED-TTL:P3D
REFRESH-INTERVAL:P3D
CALSCALE:GREGORIAN
BEGIN:VEVENT
DTSTART:20111027T220000Z
DTEND:20111028T000000Z
X-MICROSOFT-CDO-ALLDAYEVENT:FALSE
SUMMARY:Night of the Great Pumpkin
DESCRIPTION:Night of the Great Pumpkin\n\n\n\nThursday\, October 27\n\n5 - 7 pm\n\n\n\nDowntown Beatrice\n\n7th Street - 5th Street on Court Street\n\n\n\nwww.mainstreetbeatrice.org
X-ALT-DESC;FMTTYPE=text/html:Night of the Great Pumpkin<br />\n<br />\nThursday\, October 27<br />\n5 - 7 pm<br />\n<br />\nDowntown Beatrice<br />\n7th Street - 5th Street on Court Street<br />\n<br />\nwww.mainstreetbeatrice.org<br />\n<br />\n
LOCATION:
UID:e.41.5132
SEQUENCE:3
DTSTAMP:20260424T111544Z
URL:https://business.beatricechamber.com/events/details/night-of-the-great-pumpkin-10-27-2011-5132
END:VEVENT

END:VCALENDAR
