BEGIN:VCALENDAR
VERSION:2.0
PRODID:-//ChamberMaster//Event Calendar 2.0//EN
METHOD:PUBLISH
X-PUBLISHED-TTL:P3D
REFRESH-INTERVAL:P3D
CALSCALE:GREGORIAN
BEGIN:VEVENT
DTSTART:20091029T220000Z
DTEND:20091030T000000Z
X-MICROSOFT-CDO-ALLDAYEVENT:FALSE
SUMMARY:Night of the Great Pumpkin
DESCRIPTION:Main Street Beatrice is hosting the Night of the Great Pumpkin event again this year to bring families and children downtown for trick-or-treating and games.  This year's event will be held from 5 - 7 pm\, Thursday\, October 29th The annual Night of the Great Pumpkin event will be held 5:00   7:00pm today.  This family-focused occasion is a safe\, fun\, and free way to celebrate the holiday with children of all ages.  Adults are also welcome to wear child-friendly costumes and visit downtown businesses.   Due to the rain\, a tent will be set up on Court Street\, the Nickel In the Haystack game will not be available\, and the Scary Scream Contest will be moved into The Fabric Shoppe building.  Otherwise\, all activities and Trick-Or-Treating will be held as planned. To promote safety\, Court Street will be closed between 5th and 6th Streets to accommodate children's activities.  Additionally\, we ask that all participating businesses have a representative distribute the candy to the children rather than allowing the children to reach into the candy bowl.  Thank you for your support!
X-ALT-DESC;FMTTYPE=text/html:<div><div><font color="#17365d" size="2"><span style="font-size: 11pt\; color: #17365d">Main Street Beatrice is hosting the </span></font><i><font color="#e36c0a"><span style="color: #e36c0a\; font-style: italic">Night of the Great Pumpkin</span></font></i><font color="#17365d"><span style="color: #17365d"> event again this year to bring families and children downtown for trick-or-treating and games.&nbsp\;&nbsp\;</span></font></div><div><font color="#17365d"><span style="color: #17365d">This year&rsquo\;s event will be held from 5 - 7 pm\, Thursday\, October 29<sup>th</sup></span></font></div><div>&nbsp\;</div><div><font color="#17365d"><span style="color: #17365d"><sup><div><span style="font-size: small">The annual <b><i>Night of the Great Pumpkin</i></b> event will be held 5:00 &ndash\; 7:00pm today.&nbsp\; </span></div><div><span style="font-size: small">This family-focused occasion is a safe\, fun\, and free way to celebrate the holiday with children of all ages.&nbsp\; Adults are also welcome to wear child-friendly costumes and visit downtown businesses.&nbsp\; </span></div><div><span style="font-size: small">&nbsp\;</span></div><div><span style="font-size: small">Due to the rain\, a tent will be set up on Court Street\, the Nickel In the Haystack game will not be available\, and the Scary Scream Contest will be moved into The Fabric Shoppe building.&nbsp\; Otherwise\, all activities and Trick-Or-Treating will be held as planned.</span></div><div><span style="font-size: small">&nbsp\;</span></div><div><span style="font-size: small">To promote safety\, Court Street will be closed between 5<sup>th</sup> and 6<sup>th</sup> Streets to accommodate children&rsquo\;s activities.&nbsp\; Additionally\, we ask that all participating businesses have a representative distribute the candy to the children rather than allowing the children to reach into the candy bowl.&nbsp\; Thank you for your support!</span></div></sup></span></font></div></div>
LOCATION:
UID:e.41.1444
SEQUENCE:3
DTSTAMP:20260425T222226Z
URL:https://business.beatricechamber.com/events/details/night-of-the-great-pumpkin-10-29-2009-1444
END:VEVENT

END:VCALENDAR
