BEGIN:VCALENDAR
VERSION:2.0
PRODID:-//ChamberMaster//Event Calendar 2.0//EN
METHOD:PUBLISH
X-PUBLISHED-TTL:P3D
REFRESH-INTERVAL:P3D
CALSCALE:GREGORIAN
BEGIN:VEVENT
DTSTART:20111108T193000Z
DTEND:20111108T220000Z
X-MICROSOFT-CDO-ALLDAYEVENT:FALSE
SUMMARY:NMA Fall Conference
DESCRIPTION:"Communication\, Listening to Understand\, Speaking to be Understood and Resolving Conflicts"\n\n\n\nFall Conference of Southeast Community Chapter of National Management Association\n\n\n\nTuesday\, November 8\n\n1:30 - 4:30 pm\n\n\n\nBeatrice Public Library\n\n\n\nPresentor:  David Dechant\, Performance Coach/Training Consultant of Best Care Employee Assistance\n\n$25 per person for nonmembers\; group rate of $100 allows companies\, groups or organizations to send an unlimited number of attendees.  Free to NMA members and DHHS employees.  Registrations at the door.  Marian DeBuhr\, 402-223-6016.
X-ALT-DESC;FMTTYPE=text/html:&quot\;Communication\, Listening to Understand\, Speaking to be Understood and Resolving Conflicts&quot\;<br />\n<br />\nFall Conference of Southeast Community Chapter of National Management Association<br />\n<br />\nTuesday\, November 8<br />\n1:30 - 4:30 pm<br />\n<br />\nBeatrice Public Library<br />\n<br />\nPresentor:&nbsp\; David Dechant\, Performance Coach/Training Consultant of Best Care Employee Assistance<br />\n$25 per person for nonmembers\; group rate of $100 allows companies\, groups or organizations to send an unlimited number of attendees.&nbsp\; Free to NMA members and DHHS employees.&nbsp\; Registrations at the door.&nbsp\; Marian DeBuhr\, 402-223-6016.
LOCATION:
UID:e.41.5233
SEQUENCE:3
DTSTAMP:20260424T095827Z
URL:https://business.beatricechamber.com/events/details/nma-fall-conference-11-08-2011-5233
END:VEVENT

END:VCALENDAR
