BEGIN:VCALENDAR
VERSION:2.0
PRODID:-//ChamberMaster//Event Calendar 2.0//EN
METHOD:PUBLISH
X-PUBLISHED-TTL:P3D
REFRESH-INTERVAL:P3D
CALSCALE:GREGORIAN
BEGIN:VEVENT
DTSTART:20090609T173000Z
DTEND:20090609T213000Z
X-MICROSOFT-CDO-ALLDAYEVENT:FALSE
SUMMARY:NMA Spring 2009 Conference
DESCRIPTION:The Southeast Nebraska Community Chapter ofThe National Management Association presents a leadership workshop on  Championship Teams Have No "Benchwarmers" (Teamwork) Aaron Davis\, PresidentAaron Davis Presentations\, Inc. Tuesday\, June 9\, 20091:00PM - 4:30PMValentino's Primavera Room701 Court Street - Beatrice\, Nebraska Registration 12:30-1:00 $25 per person (non-member)Special group rate of $100 allows companies\, groups\, or organizations to send an unlimited number of attendees.Free to all Nebraska and Iowa NMA Members
X-ALT-DESC;FMTTYPE=text/html:<div style="margin: 0in 0in 0pt" align="center"><strong><span style="font-size: 11pt">The Southeast Nebraska Community Chapter of</span></strong></div><div style="margin: 0in 0in 0pt" align="center"><strong><span style="font-size: 11pt">The National Management Association presents a leadership workshop on&hellip\;</span></strong></div><div style="margin: 0in 0in 0pt" align="center"><strong>&nbsp\;</strong></div><div style="margin: 0in 0in 0pt" align="center"><em><span style="font-size: 22pt\; color: red"><strong>Championship Teams Have No &ldquo\;Benchwarmers&rdquo\; (Teamwork)</strong></span></em></div><div style="margin: 0in 0in 0pt" align="center">&nbsp\;</div><div style="margin: 0in 0in 0pt" align="center"><span style="font-size: 20pt"><strong>Aaron Davis\, President</strong></span></div><div style="margin: 0in 0in 0pt" align="center"><span style="font-size: 20pt"><strong>Aaron Davis Presentations\, Inc.</strong></span></div><div style="margin: 0in 0in 0pt" align="center">&nbsp\;</div><div style="margin: 0in 0in 0pt" align="center"><span style="font-size: 14pt\; layout-grid-mode: line\; color: black"><strong>Tuesday\, June 9\, 2009</strong></span></div><div style="margin: 0in 0in 0pt" align="center"><strong><span style="font-size: 14pt\; layout-grid-mode: line\; color: black">1:00PM - 4:30PM</span></strong></div><div style="margin: 0in 0in 0pt" align="center"><strong><span style="font-size: 14pt\; layout-grid-mode: line\; color: black">Valentino&rsquo\;s Primavera Room</span></strong></div><div style="margin: 0in 0in 0pt" align="center"><strong><span style="font-size: 14pt\; layout-grid-mode: line\; color: black">701 Court Street -&nbsp\;Beatrice\, Nebraska</span></strong></div><div style="margin: 0in 0in 0pt\; line-height: 12pt" align="center"><strong>&nbsp\;</strong></div><div style="margin: 0in 0in 0pt\; line-height: 12pt" align="center"><strong><span style="font-size: 11pt\; layout-grid-mode: line\; color: black">Registration 12:30-1:00</span></strong></div><div style="margin: 0in 0in 0pt\; line-height: 12pt" align="center"><strong>&nbsp\;</strong></div><div style="margin: 0in 0in 0pt\; line-height: 12pt" align="center"><span style="font-size: 11pt\; layout-grid-mode: line\; color: black">$25 per person (non-member)</span></div><div style="margin: 0in 0in 0pt\; line-height: 12pt" align="center"><span style="font-size: 11pt\; layout-grid-mode: line\; color: black">Special group rate of $100 allows companies\, groups\, or organizations to send an unlimited number of attendees.</span></div><div style="margin: 0in 0in 0pt\; line-height: 12pt" align="center"><span style="font-size: 11pt\; layout-grid-mode: line\; color: black">Free to all Nebraska and Iowa NMA Members</span></div>
LOCATION:
UID:e.41.1248
SEQUENCE:3
DTSTAMP:20260426T042604Z
URL:https://business.beatricechamber.com/events/details/nma-spring-2009-conference-06-09-2009-1248
END:VEVENT

END:VCALENDAR
