BEGIN:VCALENDAR
VERSION:2.0
PRODID:-//ChamberMaster//Event Calendar 2.0//EN
METHOD:PUBLISH
X-PUBLISHED-TTL:P3D
REFRESH-INTERVAL:P3D
CALSCALE:GREGORIAN
BEGIN:VEVENT
DTSTART;VALUE=DATE:20110618
DTEND;VALUE=DATE:20110619
TRANSP:TRANSPARENT
X-MICROSOFT-CDO-ALLDAYEVENT:TRUE
SUMMARY:Noon Horseshoe Tournament
DESCRIPTION:Register by 11:30 a.m. and bring your own horseshoes.\n\n\n\nFor more information call 402-223-2338 or go online at www.beatricechamber.com.
X-ALT-DESC;FMTTYPE=text/html:Register by 11:30 a.m. and bring your own horseshoes.<br />\n<br />\nFor more information call 402-223-2338 or go online at <a href="http://www.beatricechamber.com">www.beatricechamber.com</a>.
LOCATION:
UID:e.41.4901
SEQUENCE:3
DTSTAMP:20260424T165636Z
URL:https://business.beatricechamber.com/events/details/noon-horseshoe-tournament-06-18-2011-4901
END:VEVENT

END:VCALENDAR
