BEGIN:VCALENDAR
VERSION:2.0
PRODID:-//ChamberMaster//Event Calendar 2.0//EN
METHOD:PUBLISH
X-PUBLISHED-TTL:P3D
REFRESH-INTERVAL:P3D
CALSCALE:GREGORIAN
BEGIN:VEVENT
DTSTART;VALUE=DATE:20111029
DTEND;VALUE=DATE:20111030
TRANSP:TRANSPARENT
X-MICROSOFT-CDO-ALLDAYEVENT:TRUE
SUMMARY:OACE Halloween Party in Odell
DESCRIPTION:The OACE sponsored Halloween Party\n\nSaturday\, October 29\n\n3 - 5 pm\n\n\n\nOdell Community Building\n\n\n\nThere will be a costume contest\, free games and prizes for kids of all ages! \n\n\n\nwww.odell-nebraska.us\n\nEmail oace@diodecom.net
X-ALT-DESC;FMTTYPE=text/html:The OACE sponsored Halloween Party<br />\nSaturday\, October 29<br />\n3 - 5 pm<br />\n<br />\nOdell Community Building<br />\n<br />\nThere will be a costume contest\, free games and prizes for kids of all ages!&nbsp\;<br />\n<br />\nwww.odell-nebraska.us<br />\nEmail <a href="mailto:oace@diodecom.net">oace@diodecom.net</a><br />\n
LOCATION:
UID:e.41.5206
SEQUENCE:3
DTSTAMP:20260424T111549Z
URL:https://business.beatricechamber.com/events/details/oace-halloween-party-in-odell-10-29-2011-5206
END:VEVENT

END:VCALENDAR
