BEGIN:VCALENDAR
VERSION:2.0
PRODID:-//ChamberMaster//Event Calendar 2.0//EN
METHOD:PUBLISH
X-PUBLISHED-TTL:P3D
REFRESH-INTERVAL:P3D
CALSCALE:GREGORIAN
BEGIN:VEVENT
DTSTART;VALUE=DATE:20111029
DTEND;VALUE=DATE:20111030
TRANSP:TRANSPARENT
X-MICROSOFT-CDO-ALLDAYEVENT:TRUE
SUMMARY:OACE Non-Scary Haunted House
DESCRIPTION:The OACE sponsored Non-Scary Haunted House\n\n\n\nSaturday\, October 29\n\n4:45 - ???\n\n\n\nOdell American Legion\n\n\n\nwww.odell-nebraska.us\n\nEmail oace@diodecom.net
X-ALT-DESC;FMTTYPE=text/html:The OACE sponsored Non-Scary Haunted House<br />\n<br />\nSaturday\, October 29<br />\n4:45 - ???<br />\n<br />\nOdell American Legion<br />\n<br />\nwww.odell-nebraska.us<br />\nEmail <a href="mailto:oace@diodecom.net">oace@diodecom.net</a><br />\n
LOCATION:
UID:e.41.5207
SEQUENCE:3
DTSTAMP:20260424T111305Z
URL:https://business.beatricechamber.com/events/details/oace-non-scary-haunted-house-10-29-2011-5207
END:VEVENT

END:VCALENDAR
