BEGIN:VCALENDAR
VERSION:2.0
PRODID:-//ChamberMaster//Event Calendar 2.0//EN
METHOD:PUBLISH
X-PUBLISHED-TTL:P3D
REFRESH-INTERVAL:P3D
CALSCALE:GREGORIAN
BEGIN:VEVENT
DTSTART;VALUE=DATE:20091008
DTEND;VALUE=DATE:20091011
TRANSP:TRANSPARENT
X-MICROSOFT-CDO-ALLDAYEVENT:TRUE
SUMMARY:Octoberfest - Beatrice Speedway
DESCRIPTION:Octoberfest - Open PracticeThursday - Friday - Saturday
X-ALT-DESC;FMTTYPE=text/html:<div>Octoberfest - Open Practice</div><div>Thursday - Friday - Saturday</div>
LOCATION:
UID:e.41.1143
SEQUENCE:3
DTSTAMP:20260425T221329Z
URL:https://business.beatricechamber.com/events/details/octoberfest-beatrice-speedway-10-08-2009-1143
END:VEVENT

END:VCALENDAR
