BEGIN:VCALENDAR
VERSION:2.0
PRODID:-//ChamberMaster//Event Calendar 2.0//EN
METHOD:PUBLISH
X-PUBLISHED-TTL:P3D
REFRESH-INTERVAL:P3D
CALSCALE:GREGORIAN
BEGIN:VEVENT
DTSTART:20110312T233000Z
DTEND:20110313T020000Z
X-MICROSOFT-CDO-ALLDAYEVENT:FALSE
SUMMARY:Odell American Legion fish fry
DESCRIPTION:Odell Legion Club. Meal includes salad bar.
X-ALT-DESC;FMTTYPE=text/html:Odell Legion Club. Meal includes salad bar.
LOCATION:
UID:e.41.4220
SEQUENCE:3
DTSTAMP:20260424T212009Z
URL:https://business.beatricechamber.com/events/details/odell-american-legion-fish-fry-03-12-2011-4220
END:VEVENT

END:VCALENDAR
