BEGIN:VCALENDAR
VERSION:2.0
PRODID:-//ChamberMaster//Event Calendar 2.0//EN
METHOD:PUBLISH
X-PUBLISHED-TTL:P3D
REFRESH-INTERVAL:P3D
CALSCALE:GREGORIAN
BEGIN:VEVENT
DTSTART:20101211T170000Z
DTEND:20101211T203000Z
X-MICROSOFT-CDO-ALLDAYEVENT:FALSE
SUMMARY:Odell Community Christmas
DESCRIPTION:Odell Community Christmas:\n\n\n\n11:00- Free Will Soup Luncheon begins\n\n12:00- Sharon Gydesen's Piano Students Perform\n\n12:30- Brownie and Daisy Scouts Caroling\n\n1:00- Turkey and Ham drawings\n\n1:30-2:30- Visit from Santa\n\n\n\nOACE will be sponsoring a Winter Essentials (coats\, hats\, gloves\, etc.) and a Book Drive during the Dec. 11 festivities. Bring something for the drive in lieu of a money donation at the soup luncheon.
X-ALT-DESC;FMTTYPE=text/html:<strong><span style="font-size: 16px\;">Odell Community Christmas:</span></strong><br />\n<br />\n11:00- Free Will Soup Luncheon begins<br />\n12:00- Sharon Gydesen&#39\;s Piano Students Perform<br />\n12:30- Brownie and Daisy Scouts Caroling<br />\n1:00- Turkey and Ham drawings<br />\n1:30-2:30- Visit from Santa<br />\n<br />\nOACE will be sponsoring a Winter Essentials (coats\, hats\, gloves\, etc.) and a Book Drive during the Dec. 11 festivities. Bring something for the drive in lieu of a money donation at the soup luncheon.<br />\n
LOCATION:
UID:e.41.2879
SEQUENCE:3
DTSTAMP:20260425T014207Z
URL:https://business.beatricechamber.com/events/details/odell-community-christmas-12-11-2010-2879
END:VEVENT

END:VCALENDAR
