BEGIN:VCALENDAR
VERSION:2.0
PRODID:-//ChamberMaster//Event Calendar 2.0//EN
METHOD:PUBLISH
X-PUBLISHED-TTL:P3D
REFRESH-INTERVAL:P3D
CALSCALE:GREGORIAN
BEGIN:VEVENT
DTSTART:20120825T200000Z
DTEND:20120826T030000Z
X-MICROSOFT-CDO-ALLDAYEVENT:FALSE
SUMMARY:Odell Community Day
DESCRIPTION:Odell's Community Day is filled with many events:\n\n	\n\n	Car Show\n\n	Inflatables\n\n	Chainsaw carving\n\n	Silent Auction\n\n	Free Pie\, Jelly\, and Salsa Contest\n\n	Van's Chicken BBQ\n\n	Games @ the Park\n\n	A parade\n\n	Comedy Show\n\n	Teen Dance
X-ALT-DESC;FMTTYPE=text/html:<p>\n	Odell&#39\;s Community Day is filled with many events:<br />\n	<br />\n	Car Show<br />\n	Inflatables<br />\n	Chainsaw carving<br />\n	Silent Auction<br />\n	Free Pie\, Jelly\, and Salsa Contest<br />\n	Van&#39\;s Chicken BBQ<br />\n	Games @ the Park<br />\n	A parade<br />\n	Comedy Show<br />\n	Teen Dance<br />\n	&nbsp\;</p>\n
LOCATION:Main St. Odell\, NE 68415
UID:e.41.6602
SEQUENCE:3
DTSTAMP:20260422T100339Z
URL:https://business.beatricechamber.com/events/details/odell-community-day-08-25-2012-6602
END:VEVENT

END:VCALENDAR
