BEGIN:VCALENDAR
VERSION:2.0
PRODID:-//ChamberMaster//Event Calendar 2.0//EN
METHOD:PUBLISH
X-PUBLISHED-TTL:P3D
REFRESH-INTERVAL:P3D
CALSCALE:GREGORIAN
BEGIN:VEVENT
DTSTART;VALUE=DATE:20110910
DTEND;VALUE=DATE:20110911
TRANSP:TRANSPARENT
X-MICROSOFT-CDO-ALLDAYEVENT:TRUE
SUMMARY:Odell Community Days
DESCRIPTION:Odell Community Days\n\n"Hometown Heroes"\n\n\n\nOdell\, NE\n\nSeptember 10\, 2011\n\n\n\nwww.odell-nebraska.us\n\nemail: oace@diodecom.net\n\n\n\n\n\nVans BBQ Meal 11 am - 1 pm\n\nSilent Auction 11 am - 3 pm\n\nParade: 1:30 pm on Main Street Odell\n\nBounce Houses\, Family Games & Treats\, L&R Chainsaw Carving\, Pie/Salsa/Jelly Contest\, Magic Show\, Old West Trails Center activities.\n\n\n\nNo admission for games & parade
X-ALT-DESC;FMTTYPE=text/html:Odell Community Days<br />\n&quot\;Hometown Heroes&quot\;<br />\n<br />\nOdell\, NE<br />\nSeptember 10\, 2011<br />\n<br />\n<a href="http://www.odell-nebraska.us">www.odell-nebraska.us</a><br />\nemail: <a href="mailto:oace@diodecom.net">oace@diodecom.net</a><br />\n<br />\n<br />\nVans BBQ Meal 11 am&nbsp\;- 1 pm<br />\nSilent Auction 11 am - 3 pm<br />\nParade: 1:30 pm on Main Street Odell<br />\nBounce Houses\, Family Games &amp\; Treats\, L&amp\;R Chainsaw Carving\, Pie/Salsa/Jelly Contest\, Magic Show\, Old West Trails Center activities.<br />\n<br />\nNo admission for games &amp\; parade<br />\n<br />\n<br />\n
LOCATION:
UID:e.41.4854
SEQUENCE:3
DTSTAMP:20260424T122840Z
URL:https://business.beatricechamber.com/events/details/odell-community-days-09-10-2011-4854
END:VEVENT

END:VCALENDAR
