BEGIN:VCALENDAR
VERSION:2.0
PRODID:-//ChamberMaster//Event Calendar 2.0//EN
METHOD:PUBLISH
X-PUBLISHED-TTL:P3D
REFRESH-INTERVAL:P3D
CALSCALE:GREGORIAN
BEGIN:VEVENT
DTSTART;VALUE=DATE:20090913
DTEND;VALUE=DATE:20090914
TRANSP:TRANSPARENT
X-MICROSOFT-CDO-ALLDAYEVENT:TRUE
SUMMARY:Odell Community Days
DESCRIPTION:2nd Anniversary Old West Trails CenterQuilt RaffleBlacksmith Demonstration by Eric KlausCommunity Art Show
X-ALT-DESC;FMTTYPE=text/html:<div>2nd Anniversary Old West Trails Center</div><div>Quilt Raffle</div><div>Blacksmith Demonstration by Eric Klaus</div><div>Community Art Show</div>
LOCATION:
UID:e.41.1061
SEQUENCE:3
DTSTAMP:20260425T233148Z
URL:https://business.beatricechamber.com/events/details/odell-community-days-09-13-2009-1061
END:VEVENT

END:VCALENDAR
