BEGIN:VCALENDAR
VERSION:2.0
PRODID:-//ChamberMaster//Event Calendar 2.0//EN
METHOD:PUBLISH
X-PUBLISHED-TTL:P3D
REFRESH-INTERVAL:P3D
CALSCALE:GREGORIAN
BEGIN:VEVENT
DTSTART;VALUE=DATE:20120505
DTEND;VALUE=DATE:20120506
TRANSP:TRANSPARENT
X-MICROSOFT-CDO-ALLDAYEVENT:TRUE
SUMMARY:Odell Community garage sales
DESCRIPTION:8 a.m. - 2 p.m. Maps available at State Bank of Odell\, Village Market\, Sutton Repair and participating homes. Sponsored by OACE.
X-ALT-DESC;FMTTYPE=text/html:8 a.m.&nbsp\;- 2 p.m.&nbsp\;Maps available&nbsp\;at State Bank of Odell\,&nbsp\;Village&nbsp\;Market\,&nbsp\;Sutton Repair and&nbsp\;participating homes. Sponsored by&nbsp\;OACE.
LOCATION:
UID:e.41.5492
SEQUENCE:3
DTSTAMP:20260422T142505Z
URL:https://business.beatricechamber.com/events/details/odell-community-garage-sales-05-05-2012-5492
END:VEVENT

END:VCALENDAR
