BEGIN:VCALENDAR
VERSION:2.0
PRODID:-//ChamberMaster//Event Calendar 2.0//EN
METHOD:PUBLISH
X-PUBLISHED-TTL:P3D
REFRESH-INTERVAL:P3D
CALSCALE:GREGORIAN
BEGIN:VEVENT
DTSTART;VALUE=DATE:20110918
DTEND;VALUE=DATE:20110919
TRANSP:TRANSPARENT
X-MICROSOFT-CDO-ALLDAYEVENT:TRUE
SUMMARY:Odell Consignment Sale
DESCRIPTION:Noon\, Odell's Main Street.  Items to be listed on the sale bill must be received by Wednesday\, August 31.  To consign your items\, contact:  State Bank of Odell at 402-766-3720 or P. O. Box 185\, Odell\, NE  68415 or ODELLSALE@DIODECOM.NET
X-ALT-DESC;FMTTYPE=text/html:Noon\, Odell&#39\;s Main Street.&nbsp\; Items to be listed on the sale bill must be received by Wednesday\, August 31.&nbsp\; To consign your items\, contact:&nbsp\; State Bank of Odell at 402-766-3720 or P. O. Box 185\, Odell\, NE&nbsp\; 68415 or <a href="mailto:ODELLSALE@DIODECOM.NET">ODELLSALE@DIODECOM.NET</a>
LOCATION:
UID:e.41.5032
SEQUENCE:3
DTSTAMP:20260424T122840Z
URL:https://business.beatricechamber.com/events/details/odell-consignment-sale-09-18-2011-5032
END:VEVENT

END:VCALENDAR
