BEGIN:VCALENDAR
VERSION:2.0
PRODID:-//ChamberMaster//Event Calendar 2.0//EN
METHOD:PUBLISH
X-PUBLISHED-TTL:P3D
REFRESH-INTERVAL:P3D
CALSCALE:GREGORIAN
BEGIN:VEVENT
DTSTART;VALUE=DATE:20111126
DTEND;VALUE=DATE:20111127
TRANSP:TRANSPARENT
X-MICROSOFT-CDO-ALLDAYEVENT:TRUE
SUMMARY:Odell Craft Fair
DESCRIPTION:Odell Craft Fair\n\nSaturday\, November 26\n\n\n\nOdell\, NE\n\n(402)766-3677\n\n\n\nwww.odell-nebraska.us
X-ALT-DESC;FMTTYPE=text/html:Odell Craft Fair<br />\nSaturday\, November 26<br />\n<br />\nOdell\, NE<br />\n(402)766-3677<br />\n<br />\nwww.odell-nebraska.us<br />\n
LOCATION:
UID:e.41.4856
SEQUENCE:3
DTSTAMP:20260424T100047Z
URL:https://business.beatricechamber.com/events/details/odell-craft-fair-11-26-2011-4856
END:VEVENT

END:VCALENDAR
