BEGIN:VCALENDAR
VERSION:2.0
PRODID:-//ChamberMaster//Event Calendar 2.0//EN
METHOD:PUBLISH
X-PUBLISHED-TTL:P3D
REFRESH-INTERVAL:P3D
CALSCALE:GREGORIAN
BEGIN:VEVENT
DTSTART:20101127T150000Z
DTEND:20101127T220000Z
X-MICROSOFT-CDO-ALLDAYEVENT:FALSE
SUMMARY:Odell Craft Show
DESCRIPTION:35th Annual Odell Craft Show\n\n\n\nSaturday\, November 27\n\n9 a.m. - 4 p.m.\n\n\n\nVarious Locations in Odell\, including Odell Community Building & Diller-Odell High School\n\n\n\nAdmission:  $1 donation to Youth Activity Fund\n\n\n\nSponsored by OACE (Odell Area Community Enrichment)
X-ALT-DESC;FMTTYPE=text/html:<strong><span style="font-size: 16px">35th Annual Odell Craft Show<br />\n<br />\nSaturday\, November 27<br />\n9 a.m. - 4 p.m.</span></strong><br />\n<br />\n<span style="font-size: 12px">Various Locations <strong>in </strong>Odell\, including Odell Community Building &amp\; Diller-Odell High School<br />\n<br />\nAdmission:&nbsp\; $1 donation to Youth Activity Fund<br />\n<br />\nSponsored by OACE (Odell Area Community Enrichment)</span>
LOCATION:
UID:e.41.2803
SEQUENCE:3
DTSTAMP:20260425T032510Z
URL:https://business.beatricechamber.com/events/details/odell-craft-show-11-27-2010-2803
END:VEVENT

END:VCALENDAR
