BEGIN:VCALENDAR
VERSION:2.0
PRODID:-//ChamberMaster//Event Calendar 2.0//EN
METHOD:PUBLISH
X-PUBLISHED-TTL:P3D
REFRESH-INTERVAL:P3D
CALSCALE:GREGORIAN
BEGIN:VEVENT
DTSTART;VALUE=DATE:20110827
DTEND;VALUE=DATE:20110828
TRANSP:TRANSPARENT
X-MICROSOFT-CDO-ALLDAYEVENT:TRUE
SUMMARY:Odell Farmers' Market
DESCRIPTION:The market will be each Saturday in July and into August.  The starting time will be at approximately 8 a.m.  Booths should be set up on the Main Street sidewalk somewhere to the west of the community building. \n\n\n\nRules:  homemade goods should have a recipe card listing all the ingredients\; no canned goods such as jellies\, jams\, or salsas\; oven baked goods can be sold with recipe included\; eggs may be sold as long as you have a state ID# and kept at the appropriate temperatures\; items need to be sold by quantity\, groups or sackfuls but can not be sold by weight unless you have a state certified scale.\n\n\n\nOpen to everyone.  Vendors are welcome!  For more information\, email oace@diodecom.net
X-ALT-DESC;FMTTYPE=text/html:The market will be each Saturday in July and into August.&nbsp\; The starting time will be at approximately 8 a.m.&nbsp\; Booths should be set up on the Main Street sidewalk somewhere to the west of the community building.&nbsp\;<br />\n<br />\nRules:&nbsp\; homemade goods should have a recipe card listing all the ingredients\; no canned goods such as jellies\, jams\, or salsas\; oven baked goods can be sold with recipe included\; eggs may be sold as long as you have a state ID# and kept at the appropriate temperatures\; items need to be sold by quantity\, groups or sackfuls but can not be sold by weight unless you have a state certified scale.<br />\n<br />\nOpen to everyone.&nbsp\; Vendors are welcome!&nbsp\; For more information\, email&nbsp\;<a href="mailto:oace@diodecom.net">oace@diodecom.net</a>
LOCATION:
UID:e.41.4975
SEQUENCE:3
DTSTAMP:20260424T135642Z
URL:https://business.beatricechamber.com/events/details/odell-farmers-market-08-27-2011-4975
END:VEVENT

END:VCALENDAR
