BEGIN:VCALENDAR
VERSION:2.0
PRODID:-//ChamberMaster//Event Calendar 2.0//EN
METHOD:PUBLISH
X-PUBLISHED-TTL:P3D
REFRESH-INTERVAL:P3D
CALSCALE:GREGORIAN
BEGIN:VEVENT
DTSTART;VALUE=DATE:20110528
DTEND;VALUE=DATE:20110529
TRANSP:TRANSPARENT
X-MICROSOFT-CDO-ALLDAYEVENT:TRUE
SUMMARY:Odell High School Alumni Banquet
DESCRIPTION:Odell High School Alumni Banquet\n\n\n\nSaturday\, May 28\n\n6:30 pm\n\nDiller-Odell High School in Odell\n\n\n\nThe meal price is $13.  Announcements have been mailed\, however\, graduates that did not receive one may still register by contacting Julie Humphreys Dickman at 785-673-3325\, email Julie.Dickman@cpsagu.com or Stephanie Lane Ware at 402-223-0275.  Registration deadline is May 1.
X-ALT-DESC;FMTTYPE=text/html:Odell High School Alumni Banquet<br />\n<br />\nSaturday\, May 28<br />\n6:30 pm<br />\nDiller-Odell High School in Odell<br />\n<br />\nThe meal price is $13.&nbsp\; Announcements have been mailed\, however\, graduates that did not receive one may still register by contacting Julie Humphreys Dickman at 785-673-3325\, email <a href="mailto:Julie.Dickman@cpsagu.com">Julie.Dickman@cpsagu.com</a> or Stephanie Lane Ware at 402-223-0275.&nbsp\; Registration deadline is May 1.
LOCATION:
UID:e.41.4593
SEQUENCE:3
DTSTAMP:20260424T182939Z
URL:https://business.beatricechamber.com/events/details/odell-high-school-alumni-banquet-05-28-2011-4593
END:VEVENT

END:VCALENDAR
