BEGIN:VCALENDAR
VERSION:2.0
PRODID:-//ChamberMaster//Event Calendar 2.0//EN
METHOD:PUBLISH
X-PUBLISHED-TTL:P3D
REFRESH-INTERVAL:P3D
CALSCALE:GREGORIAN
BEGIN:VEVENT
DTSTART;VALUE=DATE:20111030
DTEND;VALUE=DATE:20111031
TRANSP:TRANSPARENT
X-MICROSOFT-CDO-ALLDAYEVENT:TRUE
SUMMARY:Odell Methodist Turkey & Ham Dinner
DESCRIPTION:Odell United Methodist Church\n\nAnnual Fall Turkey/Ham Dinner with all the trimmings\n\n \n\nSunday\, October 30\n\n11 am - 1:30 pm\n\n\n\nOdell Community Building\n\n\n\nCost of the meal is $8 for adults\; $3 for children under age 10\; and free to preschoolers.  There will also be a treat and craft table.
X-ALT-DESC;FMTTYPE=text/html:<span style="font-size: 14px">Odell United Methodist Church<br />\nAnnual Fall Turkey/Ham Dinner with all the trimmings</span><br />\n&nbsp\;<br />\nSunday\, October 30<br />\n11 am - 1:30 pm<br />\n<br />\nOdell Community Building<br />\n<br />\nCost of the meal is $8 for adults\; $3 for children under age 10\; and free to preschoolers.&nbsp\; There will also be a treat and craft table.
LOCATION:
UID:e.41.5202
SEQUENCE:3
DTSTAMP:20260424T110330Z
URL:https://business.beatricechamber.com/events/details/odell-methodist-turkey-ham-dinner-10-30-2011-5202
END:VEVENT

END:VCALENDAR
