BEGIN:VCALENDAR
VERSION:2.0
PRODID:-//ChamberMaster//Event Calendar 2.0//EN
METHOD:PUBLISH
X-PUBLISHED-TTL:P3D
REFRESH-INTERVAL:P3D
CALSCALE:GREGORIAN
BEGIN:VEVENT
DTSTART:20101205T193000Z
DTEND:20101205T193000Z
X-MICROSOFT-CDO-ALLDAYEVENT:FALSE
SUMMARY:Odell Old West Trails Center
DESCRIPTION:Odell Old West Trails Center:\n\n\n\nSunday\, Dec. 5\n\n\n\n1:30 p.m.
X-ALT-DESC;FMTTYPE=text/html:<strong>Odell Old West Trails Center:<br />\n<br />\nSunday\, Dec. 5<br />\n<br />\n1:30 p.m.</strong><br />\n
LOCATION:
UID:e.41.2882
SEQUENCE:3
DTSTAMP:20260425T014257Z
URL:https://business.beatricechamber.com/events/details/odell-old-west-trails-center-12-05-2010-2882
END:VEVENT

END:VCALENDAR
