BEGIN:VCALENDAR
VERSION:2.0
PRODID:-//ChamberMaster//Event Calendar 2.0//EN
METHOD:PUBLISH
X-PUBLISHED-TTL:P3D
REFRESH-INTERVAL:P3D
CALSCALE:GREGORIAN
BEGIN:VEVENT
DTSTART;VALUE=DATE:20110905
DTEND;VALUE=DATE:20110906
TRANSP:TRANSPARENT
X-MICROSOFT-CDO-ALLDAYEVENT:TRUE
SUMMARY:Old- Fashioned Spelling Bee at Homestead
DESCRIPTION:Starts at 1 p.m. at the Homestead National Monument of America's historic Freeman School.  Words will be taken from the Eclectic Spelling Book published by McGuffey's in 1879.  Contestants will be divided into four categories\; under 7\, 7-11\, 12-15\, and over 16 to adult. \n\n\n\nHomestead National Monument of America is a unit of the National Park Service located four miles west of Beatrice.  Current hours of operation are 8:30 a.m.-6 p.m. daily.  Admission is free of charge.\n\n\n\nFor more information call 402-223-3514
X-ALT-DESC;FMTTYPE=text/html:Starts at 1 p.m. at the Homestead National Monument of America&#39\;s historic Freeman School.&nbsp\; Words will be taken from the Eclectic Spelling Book published by McGuffey&#39\;s in 1879.&nbsp\; Contestants will be divided into four categories\; under 7\, 7-11\, 12-15\, and over 16 to adult.&nbsp\;<br />\n<br />\nHomestead National Monument of America is a unit of the National Park Service located four miles west of Beatrice.&nbsp\; Current hours of operation are 8:30 a.m.-6 p.m. daily.&nbsp\; Admission is free of charge.<br />\n<br />\nFor more information call 402-223-3514
LOCATION:
UID:e.41.5062
SEQUENCE:3
DTSTAMP:20260424T123013Z
URL:https://business.beatricechamber.com/events/details/old-fashioned-spelling-bee-at-homestead-09-05-2011-5062
END:VEVENT

END:VCALENDAR
